BEGIN:VCALENDAR
PRODID:-//eluceo/ical//2.0/EN
VERSION:2.0
CALSCALE:GREGORIAN
BEGIN:VEVENT
UID:ff8f59c86ffa3ec21e7f8fba1639e319
DTSTAMP:20260423T172330Z
SUMMARY:TS Preschool closed
DESCRIPTION:Jewish Federation of Greater Naples\nCommunity Calendar\nhttps:
 //jewishnaples.org/calendar/calendar334\n\n&nbsp
DTSTART;TZID=America/New_York:20141127T070000
DTEND;TZID=America/New_York:20141127T070000
END:VEVENT
END:VCALENDAR
