BEGIN:VCALENDAR
PRODID:-//eluceo/ical//2.0/EN
VERSION:2.0
CALSCALE:GREGORIAN
BEGIN:VEVENT
UID:376e793df6c09a3d997877a898800ddb
DTSTAMP:20260424T040833Z
SUMMARY:TS Board Mtg
DESCRIPTION:Jewish Federation of Greater Naples\nCommunity Calendar\nhttps:
 //jewishnaples.org/calendar/calendar330\n\nChanged from 12-23
DTSTART;TZID=America/New_York:20141216T190000
DTEND;TZID=America/New_York:20141216T190000
END:VEVENT
END:VCALENDAR
