BEGIN:VCALENDAR
PRODID:-//eluceo/ical//2.0/EN
VERSION:2.0
CALSCALE:GREGORIAN
BEGIN:VEVENT
UID:e6be2099512ab1b4b20c98e136fca670
DTSTAMP:20260424T003425Z
SUMMARY:TS Preschool reopens
DESCRIPTION:Jewish Federation of Greater Naples\nCommunity Calendar\nhttps:
 //jewishnaples.org/calendar/calendar327\n\n&nbsp
DTSTART;TZID=America/New_York:20150107T083000
DTEND;TZID=America/New_York:20150107T083000
END:VEVENT
END:VCALENDAR
