BEGIN:VCALENDAR
PRODID:-//eluceo/ical//2.0/EN
VERSION:2.0
CALSCALE:GREGORIAN
BEGIN:VEVENT
UID:df152ab63e7b89232bbd9b70326fb386
DTSTAMP:20260422T000257Z
SUMMARY:TS B'nai Mitzvah Class
DESCRIPTION:Jewish Federation of Greater Naples\nCommunity Calendar\nhttps:
 //jewishnaples.org/calendar/calendar322\n\n&nbsp
DTSTART;TZID=America/New_York:20150325T183000
DTEND;TZID=America/New_York:20150325T183000
END:VEVENT
END:VCALENDAR
