BEGIN:VCALENDAR
PRODID:-//eluceo/ical//2.0/EN
VERSION:2.0
CALSCALE:GREGORIAN
BEGIN:VEVENT
UID:c7e7978b6e2617c4a8fa7a064f2b8340
DTSTAMP:20260423T110213Z
SUMMARY:TS B'nai Mitzvah Class
DESCRIPTION:Jewish Federation of Greater Naples\nCommunity Calendar\nhttps:
 //jewishnaples.org/calendar/calendar319\n\n&nbsp
DTSTART;TZID=America/New_York:20150304T183000
DTEND;TZID=America/New_York:20150304T183000
END:VEVENT
END:VCALENDAR
