BEGIN:VCALENDAR
PRODID:-//eluceo/ical//2.0/EN
VERSION:2.0
CALSCALE:GREGORIAN
BEGIN:VEVENT
UID:f7a94075266ff6985b599a37c1b84a3c
DTSTAMP:20260424T085554Z
SUMMARY:TS B'nai Mitzvah Class
DESCRIPTION:Jewish Federation of Greater Naples\nCommunity Calendar\nhttps:
 //jewishnaples.org/calendar/calendar317\n\n&nbsp
DTSTART;TZID=America/New_York:20150218T183000
DTEND;TZID=America/New_York:20150218T183000
END:VEVENT
END:VCALENDAR
