BEGIN:VCALENDAR
PRODID:-//eluceo/ical//2.0/EN
VERSION:2.0
CALSCALE:GREGORIAN
BEGIN:VEVENT
UID:423289c437544eb21c08fae4b27d0b12
DTSTAMP:20260423T030859Z
SUMMARY:TS B'nai Mitzvah Class
DESCRIPTION:Jewish Federation of Greater Naples\nCommunity Calendar\nhttps:
 //jewishnaples.org/calendar/calendar314\n\n&nbsp
DTSTART;TZID=America/New_York:20150128T183000
DTEND;TZID=America/New_York:20150128T183000
END:VEVENT
END:VCALENDAR
