BEGIN:VCALENDAR
PRODID:-//eluceo/ical//2.0/EN
VERSION:2.0
CALSCALE:GREGORIAN
BEGIN:VEVENT
UID:2d62d0c7c1c7dbf5d8cb10bf5e47a0e5
DTSTAMP:20260423T053942Z
SUMMARY:TS Mitzvah Day
DESCRIPTION:Jewish Federation of Greater Naples\nCommunity Calendar\nhttps:
 //jewishnaples.org/calendar/calendar312\n\n&nbsp
DTSTART;TZID=America/New_York:20150208T180000
DTEND;TZID=America/New_York:20150208T180000
END:VEVENT
END:VCALENDAR
