BEGIN:VCALENDAR
PRODID:-//eluceo/ical//2.0/EN
VERSION:2.0
CALSCALE:GREGORIAN
BEGIN:VEVENT
UID:1d1a7052200dc070c385a947e412636c
DTSTAMP:20260422T205841Z
SUMMARY:TS Torah
DESCRIPTION:Jewish Federation of Greater Naples\nCommunity Calendar\nhttps:
 //jewishnaples.org/calendar/calendar31\n\nTuesdays with Torah \nThree cons
 ecutive Tuesdays
DTSTART;TZID=America/New_York:20140708T120000
DTEND;TZID=America/New_York:20140708T120000
END:VEVENT
END:VCALENDAR
