BEGIN:VCALENDAR
PRODID:-//eluceo/ical//2.0/EN
VERSION:2.0
CALSCALE:GREGORIAN
BEGIN:VEVENT
UID:027476836b23406394d3273636b19073
DTSTAMP:20260424T012543Z
SUMMARY:TS Service
DESCRIPTION:Jewish Federation of Greater Naples\nCommunity Calendar\nhttps:
 //jewishnaples.org/calendar/calendar308\n\nPurim\nMegilla Reading
DTSTART;TZID=America/New_York:20150305T100000
DTEND;TZID=America/New_York:20150305T100000
END:VEVENT
END:VCALENDAR
