BEGIN:VCALENDAR
PRODID:-//eluceo/ical//2.0/EN
VERSION:2.0
CALSCALE:GREGORIAN
BEGIN:VEVENT
UID:421eda712afe1fa4a653b0da2a331555
DTSTAMP:20260422T090515Z
SUMMARY:TS Special Event
DESCRIPTION:Jewish Federation of Greater Naples\nCommunity Calendar\nhttps:
 //jewishnaples.org/calendar/calendar303\n\nTBA
DTSTART;TZID=America/New_York:20150328T170000
DTEND;TZID=America/New_York:20150328T170000
END:VEVENT
END:VCALENDAR
