BEGIN:VCALENDAR
PRODID:-//eluceo/ical//2.0/EN
VERSION:2.0
CALSCALE:GREGORIAN
BEGIN:VEVENT
UID:11cc5270657260441ed02ae098f9a6ec
DTSTAMP:20260423T225636Z
SUMMARY:TS Service
DESCRIPTION:Jewish Federation of Greater Naples\nCommunity Calendar\nhttps:
 //jewishnaples.org/calendar/calendar301\n\n&nbsp
DTSTART;TZID=America/New_York:20150404T100000
DTEND;TZID=America/New_York:20150404T100000
END:VEVENT
END:VCALENDAR
