BEGIN:VCALENDAR
PRODID:-//eluceo/ical//2.0/EN
VERSION:2.0
CALSCALE:GREGORIAN
BEGIN:VEVENT
UID:3af9c635ae8258de59b3e06600e615b3
DTSTAMP:20260420T140648Z
SUMMARY:JCMI Deli Fest
DESCRIPTION:Jewish Federation of Greater Naples\nCommunity Calendar\nhttps:
 //jewishnaples.org/calendar/calendar292\n\n&nbsp
DTSTART;TZID=America/New_York:20150125T110000
DTEND;TZID=America/New_York:20150125T110000
END:VEVENT
END:VCALENDAR
