BEGIN:VCALENDAR
PRODID:-//eluceo/ical//2.0/EN
VERSION:2.0
CALSCALE:GREGORIAN
BEGIN:VEVENT
UID:dcf7e8617c57042dfbf395d0afd9818c
DTSTAMP:20260422T120210Z
SUMMARY:JCMI Service
DESCRIPTION:Jewish Federation of Greater Naples\nCommunity Calendar\nhttps:
 //jewishnaples.org/calendar/calendar291\n\n&nbsp
DTSTART;TZID=America/New_York:20150328T100000
DTEND;TZID=America/New_York:20150328T100000
END:VEVENT
END:VCALENDAR
