BEGIN:VCALENDAR
PRODID:-//eluceo/ical//2.0/EN
VERSION:2.0
CALSCALE:GREGORIAN
BEGIN:VEVENT
UID:7a78b34378a55afb169532210e594b0c
DTSTAMP:20260420T161427Z
SUMMARY:JCMI Service
DESCRIPTION:Jewish Federation of Greater Naples\nCommunity Calendar\nhttps:
 //jewishnaples.org/calendar/calendar286\n\n&nbsp
DTSTART;TZID=America/New_York:20150221T100000
DTEND;TZID=America/New_York:20150221T100000
END:VEVENT
END:VCALENDAR
