BEGIN:VCALENDAR
PRODID:-//eluceo/ical//2.0/EN
VERSION:2.0
CALSCALE:GREGORIAN
BEGIN:VEVENT
UID:da479052a2ddb979a833774e6aa17054
DTSTAMP:20260422T102218Z
SUMMARY:JCMI Service
DESCRIPTION:Jewish Federation of Greater Naples\nCommunity Calendar\nhttps:
 //jewishnaples.org/calendar/calendar280\n\n&nbsp
DTSTART;TZID=America/New_York:20150110T100000
DTEND;TZID=America/New_York:20150110T100000
END:VEVENT
END:VCALENDAR
