BEGIN:VCALENDAR
PRODID:-//eluceo/ical//2.0/EN
VERSION:2.0
CALSCALE:GREGORIAN
BEGIN:VEVENT
UID:11093b56de08361e3e38dfdeba7ae3d8
DTSTAMP:20260422T172618Z
SUMMARY:JCMI Service
DESCRIPTION:Jewish Federation of Greater Naples\nCommunity Calendar\nhttps:
 //jewishnaples.org/calendar/calendar275\n\n&nbsp
DTSTART;TZID=America/New_York:20150410T200000
DTEND;TZID=America/New_York:20150410T200000
END:VEVENT
END:VCALENDAR
