BEGIN:VCALENDAR
PRODID:-//eluceo/ical//2.0/EN
VERSION:2.0
CALSCALE:GREGORIAN
BEGIN:VEVENT
UID:adf1e2faf47a19c5c470cd2321eb142f
DTSTAMP:20260423T075712Z
SUMMARY:JCMI Service
DESCRIPTION:Jewish Federation of Greater Naples\nCommunity Calendar\nhttps:
 //jewishnaples.org/calendar/calendar274\n\n&nbsp
DTSTART;TZID=America/New_York:20150403T200000
DTEND;TZID=America/New_York:20150403T200000
END:VEVENT
END:VCALENDAR
