BEGIN:VCALENDAR
PRODID:-//eluceo/ical//2.0/EN
VERSION:2.0
CALSCALE:GREGORIAN
BEGIN:VEVENT
UID:725340118ff85c19b2a8f4e207fc735a
DTSTAMP:20260422T034510Z
SUMMARY:JCMI Service
DESCRIPTION:Jewish Federation of Greater Naples\nCommunity Calendar\nhttps:
 //jewishnaples.org/calendar/calendar270\n\n&nbsp
DTSTART;TZID=America/New_York:20150306T200000
DTEND;TZID=America/New_York:20150306T200000
END:VEVENT
END:VCALENDAR
