BEGIN:VCALENDAR
PRODID:-//eluceo/ical//2.0/EN
VERSION:2.0
CALSCALE:GREGORIAN
BEGIN:VEVENT
UID:f23a9e68377a4c27e53d18a1c8d9de4f
DTSTAMP:20260423T220334Z
SUMMARY:JCMI Service
DESCRIPTION:Jewish Federation of Greater Naples\nCommunity Calendar\nhttps:
 //jewishnaples.org/calendar/calendar268\n\n&nbsp
DTSTART;TZID=America/New_York:20150220T200000
DTEND;TZID=America/New_York:20150220T200000
END:VEVENT
END:VCALENDAR
