BEGIN:VCALENDAR
PRODID:-//eluceo/ical//2.0/EN
VERSION:2.0
CALSCALE:GREGORIAN
BEGIN:VEVENT
UID:9908b5866335d57dd9b7bfc64154545b
DTSTAMP:20260423T223617Z
SUMMARY:JCMI Service
DESCRIPTION:Jewish Federation of Greater Naples\nCommunity Calendar\nhttps:
 //jewishnaples.org/calendar/calendar263\n\n&nbsp
DTSTART;TZID=America/New_York:20150116T200000
DTEND;TZID=America/New_York:20150116T200000
END:VEVENT
END:VCALENDAR
