BEGIN:VCALENDAR
PRODID:-//eluceo/ical//2.0/EN
VERSION:2.0
CALSCALE:GREGORIAN
BEGIN:VEVENT
UID:3a9f45c32ceac45c610fe597c0aab33d
DTSTAMP:20260423T055607Z
SUMMARY:JCMI Service
DESCRIPTION:Jewish Federation of Greater Naples\nCommunity Calendar\nhttps:
 //jewishnaples.org/calendar/calendar262\n\n&nbsp
DTSTART;TZID=America/New_York:20150109T200000
DTEND;TZID=America/New_York:20150109T200000
END:VEVENT
END:VCALENDAR
