BEGIN:VCALENDAR
PRODID:-//eluceo/ical//2.0/EN
VERSION:2.0
CALSCALE:GREGORIAN
BEGIN:VEVENT
UID:b46ac39bc5389c2b101e5d2b41718712
DTSTAMP:20260421T154551Z
SUMMARY:TS/WCA The Salon
DESCRIPTION:Jewish Federation of Greater Naples\nCommunity Calendar\nhttps:
 //jewishnaples.org/calendar/calendar25\n\n&nbsp
DTSTART;TZID=America/New_York:20150129T130000
DTEND;TZID=America/New_York:20150129T130000
END:VEVENT
END:VCALENDAR
