BEGIN:VCALENDAR
PRODID:-//eluceo/ical//2.0/EN
VERSION:2.0
CALSCALE:GREGORIAN
BEGIN:VEVENT
UID:aeff055ada13bd62e95fdde024dbe640
DTSTAMP:20260420T102402Z
SUMMARY:JCMI Service
DESCRIPTION:Jewish Federation of Greater Naples\nCommunity Calendar\nhttps:
 //jewishnaples.org/calendar/calendar246\n\n&nbsp
DTSTART;TZID=America/New_York:20140919T200000
DTEND;TZID=America/New_York:20140919T200000
END:VEVENT
END:VCALENDAR
