BEGIN:VCALENDAR
PRODID:-//eluceo/ical//2.0/EN
VERSION:2.0
CALSCALE:GREGORIAN
BEGIN:VEVENT
UID:a8632f42a02e0ff57d1c56862870f031
DTSTAMP:20260421T154542Z
SUMMARY:JCMI Service
DESCRIPTION:Jewish Federation of Greater Naples\nCommunity Calendar\nhttps:
 //jewishnaples.org/calendar/calendar245\n\n&nbsp
DTSTART;TZID=America/New_York:20140912T200000
DTEND;TZID=America/New_York:20140912T200000
END:VEVENT
END:VCALENDAR
