BEGIN:VCALENDAR
PRODID:-//eluceo/ical//2.0/EN
VERSION:2.0
CALSCALE:GREGORIAN
BEGIN:VEVENT
UID:042937a51816180e7099aef427447d78
DTSTAMP:20260423T192033Z
SUMMARY:JCMI Service
DESCRIPTION:Jewish Federation of Greater Naples\nCommunity Calendar\nhttps:
 //jewishnaples.org/calendar/calendar241\n\n&nbsp
DTSTART;TZID=America/New_York:20140815T200000
DTEND;TZID=America/New_York:20140815T200000
END:VEVENT
END:VCALENDAR
