BEGIN:VCALENDAR
PRODID:-//eluceo/ical//2.0/EN
VERSION:2.0
CALSCALE:GREGORIAN
BEGIN:VEVENT
UID:b263de5dd098df78c5c43f48189f4911
DTSTAMP:20260423T163002Z
SUMMARY:JCMI Service
DESCRIPTION:Jewish Federation of Greater Naples\nCommunity Calendar\nhttps:
 //jewishnaples.org/calendar/calendar239\n\n&nbsp
DTSTART;TZID=America/New_York:20140801T200000
DTEND;TZID=America/New_York:20140801T200000
END:VEVENT
END:VCALENDAR
