BEGIN:VCALENDAR
PRODID:-//eluceo/ical//2.0/EN
VERSION:2.0
CALSCALE:GREGORIAN
BEGIN:VEVENT
UID:b96fd496b219ce2243cfe26f88eb33a7
DTSTAMP:20260424T024328Z
SUMMARY:BT Havdalah Beach
DESCRIPTION:Jewish Federation of Greater Naples\nCommunity Calendar\nhttps:
 //jewishnaples.org/calendar/calendar226\n\nHavdalah on the Beach
DTSTART;TZID=America/New_York:20140719T200000
DTEND;TZID=America/New_York:20140719T200000
END:VEVENT
END:VCALENDAR
