BEGIN:VCALENDAR
PRODID:-//eluceo/ical//2.0/EN
VERSION:2.0
CALSCALE:GREGORIAN
BEGIN:VEVENT
UID:ef14aa4a6167efadb9096a100b55181b
DTSTAMP:20260420T162042Z
SUMMARY:TS Sun School Last Day
DESCRIPTION:Jewish Federation of Greater Naples\nCommunity Calendar\nhttps:
 //jewishnaples.org/calendar/calendar2165\n\n&nbsp
DTSTART;TZID=America/New_York:20150503T093000
DTEND;TZID=America/New_York:20150503T093000
END:VEVENT
END:VCALENDAR
