BEGIN:VCALENDAR
PRODID:-//eluceo/ical//2.0/EN
VERSION:2.0
CALSCALE:GREGORIAN
BEGIN:VEVENT
UID:041f345a3ba9f9466474a6214eb777de
DTSTAMP:20260421T215401Z
SUMMARY:BT Services
DESCRIPTION:Jewish Federation of Greater Naples\nCommunity Calendar\nhttps:
 //jewishnaples.org/calendar/calendar216\n\nSelichot
DTSTART;TZID=America/New_York:20140920T203000
DTEND;TZID=America/New_York:20140920T203000
END:VEVENT
END:VCALENDAR
