BEGIN:VCALENDAR
PRODID:-//eluceo/ical//2.0/EN
VERSION:2.0
CALSCALE:GREGORIAN
BEGIN:VEVENT
UID:a2f3625756cb07832b70e91566df95f1
DTSTAMP:20260423T073615Z
SUMMARY:TS Services
DESCRIPTION:Jewish Federation of Greater Naples\nCommunity Calendar\nhttps:
 //jewishnaples.org/calendar/calendar2157\n\n&nbsp
DTSTART;TZID=America/New_York:20150515T193000
DTEND;TZID=America/New_York:20150515T193000
END:VEVENT
END:VCALENDAR
