BEGIN:VCALENDAR
PRODID:-//eluceo/ical//2.0/EN
VERSION:2.0
CALSCALE:GREGORIAN
BEGIN:VEVENT
UID:af4288b24c506e22bde623f6910db9b4
DTSTAMP:20260423T055707Z
SUMMARY:TS Services
DESCRIPTION:Jewish Federation of Greater Naples\nCommunity Calendar\nhttps:
 //jewishnaples.org/calendar/calendar2148\n\n&nbsp
DTSTART;TZID=America/New_York:20150620T100000
DTEND;TZID=America/New_York:20150620T100000
END:VEVENT
END:VCALENDAR
