BEGIN:VCALENDAR
PRODID:-//eluceo/ical//2.0/EN
VERSION:2.0
CALSCALE:GREGORIAN
BEGIN:VEVENT
UID:a3e4dadb62906de75293dcfe83da3449
DTSTAMP:20260423T065058Z
SUMMARY:TS Rel School Confirmation
DESCRIPTION:Jewish Federation of Greater Naples\nCommunity Calendar\nhttps:
 //jewishnaples.org/calendar/calendar2145\n\nReligious School Confirmation
DTSTART;TZID=America/New_York:20150517T093000
DTEND;TZID=America/New_York:20150517T093000
END:VEVENT
END:VCALENDAR
