BEGIN:VCALENDAR
PRODID:-//eluceo/ical//2.0/EN
VERSION:2.0
CALSCALE:GREGORIAN
BEGIN:VEVENT
UID:a10465a39dfd9bb058334540fe825aa0
DTSTAMP:20260421T231249Z
SUMMARY:TS Pre-K Graduation
DESCRIPTION:Jewish Federation of Greater Naples\nCommunity Calendar\nhttps:
 //jewishnaples.org/calendar/calendar2143\n\n&nbsp
DTSTART;TZID=America/New_York:20150522T090000
DTEND;TZID=America/New_York:20150522T090000
END:VEVENT
END:VCALENDAR
