BEGIN:VCALENDAR
PRODID:-//eluceo/ical//2.0/EN
VERSION:2.0
CALSCALE:GREGORIAN
BEGIN:VEVENT
UID:7380641724001399f6960c0c8d3b1f53
DTSTAMP:20260424T003445Z
SUMMARY:TS Mother's Day Brunch
DESCRIPTION:Jewish Federation of Greater Naples\nCommunity Calendar\nhttps:
 //jewishnaples.org/calendar/calendar2142\n\n&nbsp
DTSTART;TZID=America/New_York:20150508T100000
DTEND;TZID=America/New_York:20150508T100000
END:VEVENT
END:VCALENDAR
