BEGIN:VCALENDAR
PRODID:-//eluceo/ical//2.0/EN
VERSION:2.0
CALSCALE:GREGORIAN
BEGIN:VEVENT
UID:28657733c4eff76a6eb747ddee51a226
DTSTAMP:20260424T033918Z
SUMMARY:TS Hebrew School
DESCRIPTION:Jewish Federation of Greater Naples\nCommunity Calendar\nhttps:
 //jewishnaples.org/calendar/calendar2141\n\n&nbsp
DTSTART;TZID=America/New_York:20150506T170000
DTEND;TZID=America/New_York:20150506T170000
END:VEVENT
END:VCALENDAR
