BEGIN:VCALENDAR
PRODID:-//eluceo/ical//2.0/EN
VERSION:2.0
CALSCALE:GREGORIAN
BEGIN:VEVENT
UID:13d12a5fb032b97130ea08c0a299d96a
DTSTAMP:20260422T000555Z
SUMMARY:BT Services
DESCRIPTION:Jewish Federation of Greater Naples\nCommunity Calendar\nhttps:
 //jewishnaples.org/calendar/calendar214\n\nRosh Hashanah
DTSTART;TZID=America/New_York:20140926T093000
DTEND;TZID=America/New_York:20140926T093000
END:VEVENT
END:VCALENDAR
