BEGIN:VCALENDAR
PRODID:-//eluceo/ical//2.0/EN
VERSION:2.0
CALSCALE:GREGORIAN
BEGIN:VEVENT
UID:0f3889726bb57f524616c38ab06f499a
DTSTAMP:20260421T154525Z
SUMMARY:TS Exec Comm Mtg
DESCRIPTION:Jewish Federation of Greater Naples\nCommunity Calendar\nhttps:
 //jewishnaples.org/calendar/calendar2138\n\n&nbsp
DTSTART;TZID=America/New_York:20150616T190000
DTEND;TZID=America/New_York:20150616T190000
END:VEVENT
END:VCALENDAR
