BEGIN:VCALENDAR
PRODID:-//eluceo/ical//2.0/EN
VERSION:2.0
CALSCALE:GREGORIAN
BEGIN:VEVENT
UID:8060490eb578d1300c8e004a2969298b
DTSTAMP:20260420T161436Z
SUMMARY:TS Camp
DESCRIPTION:Jewish Federation of Greater Naples\nCommunity Calendar\nhttps:
 //jewishnaples.org/calendar/calendar2137\n\nFirst Day of Camp Shalom
DTSTART;TZID=America/New_York:20150608T080000
DTEND;TZID=America/New_York:20150608T080000
END:VEVENT
END:VCALENDAR
