BEGIN:VCALENDAR
PRODID:-//eluceo/ical//2.0/EN
VERSION:2.0
CALSCALE:GREGORIAN
BEGIN:VEVENT
UID:912e12331c9484bd369acea4e4c473c1
DTSTAMP:20260422T041937Z
SUMMARY:SHAVUOT
DESCRIPTION:Jewish Federation of Greater Naples\nCommunity Calendar\nhttps:
 //jewishnaples.org/calendar/calendar2134\n\n&nbsp
DTSTART;TZID=America/New_York:20150524T000000
DTEND;TZID=America/New_York:20150524T000000
END:VEVENT
END:VCALENDAR
