BEGIN:VCALENDAR
PRODID:-//eluceo/ical//2.0/EN
VERSION:2.0
CALSCALE:GREGORIAN
BEGIN:VEVENT
UID:707c25e25fd73edc63d6bd3c281e3c7e
DTSTAMP:20260420T071333Z
SUMMARY:MEMORIAL DAY
DESCRIPTION:Jewish Federation of Greater Naples\nCommunity Calendar\nhttps:
 //jewishnaples.org/calendar/calendar2124\n\n&nbsp
DTSTART;TZID=America/New_York:20150525T000000
DTEND;TZID=America/New_York:20150525T000000
END:VEVENT
END:VCALENDAR
