BEGIN:VCALENDAR
PRODID:-//eluceo/ical//2.0/EN
VERSION:2.0
CALSCALE:GREGORIAN
BEGIN:VEVENT
UID:0bbe267470737b135d06d24bfdcf37e0
DTSTAMP:20260424T010932Z
SUMMARY:BT Services
DESCRIPTION:Jewish Federation of Greater Naples\nCommunity Calendar\nhttps:
 //jewishnaples.org/calendar/calendar212\n\nErev Succot
DTSTART;TZID=America/New_York:20141008T181500
DTEND;TZID=America/New_York:20141008T181500
END:VEVENT
END:VCALENDAR
