BEGIN:VCALENDAR
PRODID:-//eluceo/ical//2.0/EN
VERSION:2.0
CALSCALE:GREGORIAN
BEGIN:VEVENT
UID:5e5beea36fdcf30bb670194930a51a04
DTSTAMP:20260420T144336Z
SUMMARY:JCRC Mtg
DESCRIPTION:Jewish Federation of Greater Naples\nCommunity Calendar\nhttps:
 //jewishnaples.org/calendar/calendar2118\n\n&nbsp
DTSTART;TZID=America/New_York:20150506T133000
DTEND;TZID=America/New_York:20150506T133000
END:VEVENT
END:VCALENDAR
