BEGIN:VCALENDAR
PRODID:-//eluceo/ical//2.0/EN
VERSION:2.0
CALSCALE:GREGORIAN
BEGIN:VEVENT
UID:5c8acae72939803ae2fc604d3d616bab
DTSTAMP:20260424T020409Z
SUMMARY:JCMI Sisterhood Lunch Mtg
DESCRIPTION:Jewish Federation of Greater Naples\nCommunity Calendar\nhttps:
 //jewishnaples.org/calendar/calendar2115\n\n&nbsp
DTSTART;TZID=America/New_York:20150609T120000
DTEND;TZID=America/New_York:20150609T120000
END:VEVENT
END:VCALENDAR
