BEGIN:VCALENDAR
PRODID:-//eluceo/ical//2.0/EN
VERSION:2.0
CALSCALE:GREGORIAN
BEGIN:VEVENT
UID:13395d958c058b5ed632fb8a7b3e34ec
DTSTAMP:20260421T234211Z
SUMMARY:JCMI Service
DESCRIPTION:Jewish Federation of Greater Naples\nCommunity Calendar\nhttps:
 //jewishnaples.org/calendar/calendar2111\n\n&nbsp
DTSTART;TZID=America/New_York:20150529T200000
DTEND;TZID=America/New_York:20150529T200000
END:VEVENT
END:VCALENDAR
