BEGIN:VCALENDAR
PRODID:-//eluceo/ical//2.0/EN
VERSION:2.0
CALSCALE:GREGORIAN
BEGIN:VEVENT
UID:e9a18251a9e3424cc97afffd541252b0
DTSTAMP:20260421T032308Z
SUMMARY:JCMI Service
DESCRIPTION:Jewish Federation of Greater Naples\nCommunity Calendar\nhttps:
 //jewishnaples.org/calendar/calendar2107\n\n&nbsp
DTSTART;TZID=America/New_York:20150626T200000
DTEND;TZID=America/New_York:20150626T200000
END:VEVENT
END:VCALENDAR
