BEGIN:VCALENDAR
PRODID:-//eluceo/ical//2.0/EN
VERSION:2.0
CALSCALE:GREGORIAN
BEGIN:VEVENT
UID:fc6960dd3d14e066db36a4fdd8a2ceb2
DTSTAMP:20260424T110254Z
SUMMARY:JCMI Mah Jongg
DESCRIPTION:Jewish Federation of Greater Naples\nCommunity Calendar\nhttps:
 //jewishnaples.org/calendar/calendar2103\n\n&nbsp
DTSTART;TZID=America/New_York:20150528T110000
DTEND;TZID=America/New_York:20150528T110000
END:VEVENT
END:VCALENDAR
