BEGIN:VCALENDAR
PRODID:-//eluceo/ical//2.0/EN
VERSION:2.0
CALSCALE:GREGORIAN
BEGIN:VEVENT
UID:6f339c8109ef3fca732774aaa13dcd5c
DTSTAMP:20260424T015347Z
SUMMARY:JCMI Mah Jongg
DESCRIPTION:Jewish Federation of Greater Naples\nCommunity Calendar\nhttps:
 //jewishnaples.org/calendar/calendar2101\n\n&nbsp
DTSTART;TZID=America/New_York:20150611T110000
DTEND;TZID=America/New_York:20150611T110000
END:VEVENT
END:VCALENDAR
