BEGIN:VCALENDAR
PRODID:-//eluceo/ical//2.0/EN
VERSION:2.0
CALSCALE:GREGORIAN
BEGIN:VEVENT
UID:378f9bc56f41149d0a312eb9af84782f
DTSTAMP:20260424T081801Z
SUMMARY:JCMI Mah Jongg
DESCRIPTION:Jewish Federation of Greater Naples\nCommunity Calendar\nhttps:
 //jewishnaples.org/calendar/calendar2100\n\n&nbsp
DTSTART;TZID=America/New_York:20150618T110000
DTEND;TZID=America/New_York:20150618T110000
END:VEVENT
END:VCALENDAR
