BEGIN:VCALENDAR
PRODID:-//eluceo/ical//2.0/EN
VERSION:2.0
CALSCALE:GREGORIAN
BEGIN:VEVENT
UID:ccadf43381c52e457f19b10b94e99931
DTSTAMP:20260423T025440Z
SUMMARY:BT Services
DESCRIPTION:Jewish Federation of Greater Naples\nCommunity Calendar\nhttps:
 //jewishnaples.org/calendar/calendar210\n\nSimchat Torah
DTSTART;TZID=America/New_York:20141015T181500
DTEND;TZID=America/New_York:20141015T181500
END:VEVENT
END:VCALENDAR
